BEGIN:VCALENDAR
VERSION:2.0
PRODID:-//Federación CC.JJ. Don Bosco Castilla y León - ECPv5.3.1.1//NONSGML v1.0//EN
CALSCALE:GREGORIAN
METHOD:PUBLISH
X-WR-CALNAME:Federación CC.JJ. Don Bosco Castilla y León
X-ORIGINAL-URL:https://www.federboscocyl.org
X-WR-CALDESC:Eventos para Federación CC.JJ. Don Bosco Castilla y León
BEGIN:VTIMEZONE
TZID:Europe/Paris
BEGIN:DAYLIGHT
TZOFFSETFROM:+0100
TZOFFSETTO:+0200
TZNAME:CEST
DTSTART:20220327T010000
END:DAYLIGHT
BEGIN:STANDARD
TZOFFSETFROM:+0200
TZOFFSETTO:+0100
TZNAME:CET
DTSTART:20221030T010000
END:STANDARD
END:VTIMEZONE
BEGIN:VEVENT
DTSTART;TZID=Europe/Paris:20220401T080000
DTEND;TZID=Europe/Paris:20221231T233000
DTSTAMP:20260425T125611
CREATED:20220401T102340Z
LAST-MODIFIED:20220401T103448Z
UID:3097-1648800000-1672529400@www.federboscocyl.org
SUMMARY:Plan de dinamización Rural ALIFARA - Fase Intermedia
DESCRIPTION:DURACIÓN: \n\nDe abril a diciembre de 2022\n\nACTIVIDADES \n\n Proyecto de puesta en marcha de la Asociación Juvenil Alifara \n\n+Formación lideres/lideresas: realización de charlas de expertos\, animadores del Centro Juvenil\, y otras personas que ayuden a que los participantes adquieran habilidades y capacidades para llevar a cabo su acción voluntaria. \n+ Formación en la nueva herramienta de la Asociación Reconoce \n2.- Proyecto de actividades culturales infantiles y juveniles  \n+ Semana cultural \n+ El verano con una propuesta de campamento rural para toda la comarca y diversas actividades los fines de semana durante el año \n+ Una propuesta de campo de trabajo de voluntariado \n3.- Proyectos de emprendimiento juvenil   \n+ Gestión del albergue de Santa María en Astudillo que incluye albergue juvenil y un hospedaje rural. \n4.- Impulso de programas de actuaciones dirigidas a jóvenes y niños/as (desde extraescolares\, a actividades de ocio deportivo\, cultural\, etc.) durante la semana para que no tengan que ir a la capital de la provincia. \n5.- Desarrollo de un programa mixto de formación y empleo para la Atención a la dependencia en el entorno rural\, cuya finalidad es la de formar a personas en este ámbito estratégico tal y como apuntan las previsiones sociodemográficas de envejecimiento poblacional\, más agudo en las zonas rurales. \nEsta actividad la desarrollaremos con el Centro de Formación Profesional Don Bosco de la localidad de Villamuriel de Cerrato. \n6.- Creación de un espacio informático para un grupo de mujeres rurales relativamente jóvenes que ha demandado formación y herramientas para vencer la brecha digital entre generaciones. \nDESTINATARIOS \n\nAlrededor de 150 Jóvenes y menores de Castilla y León\, con edades comprendidas entre los 6 y 30 años.\n\nMODALIDAD\, DURACIÓN Y FECHAS \n\nModalidad: Presencial.\nLugar: Astudillo (Palencia)\n\nINFORMACIÓN E INSCRIPCIÓN ACTIVIDAD \nPara más información: \nSanti Domínguez (Director) – 600 582193\nIván Martín (Coordinador) – 619 342465\nCentro Juvenil Don Bosco (Villamuriel) – (correo electrónico: info@cjboscovilla.org)
URL:https://www.federboscocyl.org/evento/plan-de-dinamizacion-rural-alifara-fase-intermedia/
LOCATION:Albergue Santa María (Astudillo)
CATEGORIES:Actividades,Próximas Actividades
ATTACH;FMTTYPE=image/png:https://www.federboscocyl.org/wp-content/uploads/2022/04/Plan-de-dinamizacion-rural-Alifara.png
ORGANIZER;CN="Consejo%20de%20la%20Juventud%20de%20Castilla%20y%20Le%C3%B3n":MAILTO:cjcyl@cjcyl.es
END:VEVENT
BEGIN:VEVENT
DTSTART;TZID=Europe/Paris:20221101T080000
DTEND;TZID=Europe/Paris:20221130T170000
DTSTAMP:20260425T125611
CREATED:20221030T093331Z
LAST-MODIFIED:20230127T095500Z
UID:3254-1667289600-1669827600@www.federboscocyl.org
SUMMARY:Prevención de las agresiones sexuales
DESCRIPTION:Durante el mes de noviembre\, dentro del programa de prevención de las agresiones sexuales que realizamos en colaboración con la Junta de Castilla y León\, trabajaremos los tipos de pareja y la ciberviolencia sexual\, seguimos trabajando para que nuestros destinatarios tengan la mejor información y poder así concienciarles de que acciones son positivas y cuales negativas. \nAdemás\, aprovechando que en noviembre es el día contra la violencia de género\, se trabajará también como detectarla.
URL:https://www.federboscocyl.org/evento/prevencion-de-las-agresiones-sexuales-2/
ATTACH;FMTTYPE=image/png:https://www.federboscocyl.org/wp-content/uploads/2022/10/2.png
END:VEVENT
BEGIN:VEVENT
DTSTART;TZID=Europe/Paris:20221101T080000
DTEND;TZID=Europe/Paris:20221130T170000
DTSTAMP:20260425T125611
CREATED:20221031T084032Z
LAST-MODIFIED:20230130T084206Z
UID:3291-1667289600-1669827600@www.federboscocyl.org
SUMMARY:Conócete a ti mismo: hacia la prevención de la violencia de género
DESCRIPTION:Creemos que es importante trabajar con los adolescentes y jóvenes la autoestima\, ya que es un punto clave para su bienestar psicológico\, y debemos trabajar con ellos para que se desarrollen bien en este ámbito. Porque la autoestima determinará su calidad de vida en la edad adulta. \nPor eso durante este mes se trabajará la autoestima\, el autoconcepto y la autonomía\, en nuestro proyecto de igualdad realizado en colaboración con la Junta de Castilla y León: Conócete a ti mismo: hacia la prevención de la violencia de género.
URL:https://www.federboscocyl.org/evento/conocete-a-ti-mismo-hacia-la-prevencion-de-la-violencia-de-genero-3/
ATTACH;FMTTYPE=image/jpeg:https://www.federboscocyl.org/wp-content/uploads/2023/01/2-scaled.jpg
END:VEVENT
END:VCALENDAR