BEGIN:VCALENDAR
VERSION:2.0
PRODID:-//Federación CC.JJ. Don Bosco Castilla y León - ECPv5.3.1.1//NONSGML v1.0//EN
CALSCALE:GREGORIAN
METHOD:PUBLISH
X-WR-CALNAME:Federación CC.JJ. Don Bosco Castilla y León
X-ORIGINAL-URL:https://www.federboscocyl.org
X-WR-CALDESC:Eventos para Federación CC.JJ. Don Bosco Castilla y León
BEGIN:VTIMEZONE
TZID:Europe/Paris
BEGIN:DAYLIGHT
TZOFFSETFROM:+0100
TZOFFSETTO:+0200
TZNAME:CEST
DTSTART:20210328T010000
END:DAYLIGHT
BEGIN:STANDARD
TZOFFSETFROM:+0200
TZOFFSETTO:+0100
TZNAME:CET
DTSTART:20211031T010000
END:STANDARD
BEGIN:DAYLIGHT
TZOFFSETFROM:+0100
TZOFFSETTO:+0200
TZNAME:CEST
DTSTART:20220327T010000
END:DAYLIGHT
BEGIN:STANDARD
TZOFFSETFROM:+0200
TZOFFSETTO:+0100
TZNAME:CET
DTSTART:20221030T010000
END:STANDARD
END:VTIMEZONE
BEGIN:VEVENT
DTSTART;TZID=Europe/Paris:20211008T080000
DTEND;TZID=Europe/Paris:20220630T233000
DTSTAMP:20260424T070205
CREATED:20211008T111123Z
LAST-MODIFIED:20220401T120053Z
UID:3009-1633680000-1656631800@www.federboscocyl.org
SUMMARY:ATENCIÓN SOCIO-EDUCATIVA PARA NIÑOSAS Y JÓVENES EN RIESGO YO EXCLUSIÓN 2021-2022
DESCRIPTION:Objetivos del Proyecto \n– Apoyar a las personas destinatarias a adquirir hábitos adecuados de estudio\, proporcionándoles también los medios ambientales y personales necesarios para su trabajo extraescolar. \n– Detectar e intervenir en las situaciones familiares\, personales y sociales que supongan una desventaja socioeducativa de los/las jóvenes y adolescentes\, fomentando su empoderamiento. \n– Ofrecer espacios integradores especialmente para los colectivos de niños/as y jóvenes de colectivos en riesgo de exclusión. \n– Mantener relación y coordinación con el entorno de los menores (centros educativos\, servicios sociales y sus familias) para tener un conocimiento real de la situación escolar y social de las personas destinatarias y hacer un seguimiento de la evolución de los mismos; potenciando a la familia como centro de acción social. \n  \n  \nLugar:  \n  \nCENTRO JUVENIL DON BOSCO – C/SAN JUAN BOSCO\, 11 (LEÓN) \n  \nDuración del Proyecto:  \nSEPTIEMBRE 2021 – JUNIO 2022 \n  \nDestinatarios:  \nNiños/as\, adolescentes y jóvenes en riesgo de exclusión social \n  \nActividades/Horario:  \n  \n– Talleres de apoyo escolar y refuerzo educativo de lunes a jueves\, de dos horas de duración. Donde se trabajará con los jóvenes tareas de apoyo escolar\, realización de deberes\, preparación de exámenes\, aprendizaje de técnicas de estudio\, refuerzo educativo según su retraso curricular… así como dinámicas de habilidades sociales\, fomento de valores sociales y competencias básicas\, y actividades de reflexión y debate. \n  \n– Seguimiento personalizado de los casos que lo requieran: a lo largo del año se destinarán 5 horas semanales a la atención de información\, orientación y asesoramiento de todos aquellos niños\, jóvenes y unidades familiares que lo requieran. Pudiendo ser solicitadas por los educadores\, por lo menores o por las familias. Este espacio pretende ser una herramienta de seguimiento y acercamiento a la realidad de los menores\, donde poder atender sus demandas\, dificultas\, inquietudes y potenciar sus fortalezas y competencias personales. \n  \n– A través de un encuentro informal con los jóvenes y las familias se intentaría conocer sus necesidades e inquietudes. Tendrían un seguimiento personalizado en cuanto al avance y consecución de los objetivos individuales de cada uno. Se trataría también de crear un grupo de padres y madres donde trabajar ciertos aspectos de la vida familiar de una forma experiencial y a través  de dinámicas; aprovechar ese grupo y buen ambiente para crear una Escuela de Familias donde poder dar formación necesaria. \n  \n– A lo largo del curso se realizarán diversas actividades encaminadas a la promoción de actividades de tiempo libre y otras actividades complementarias para estos jóvenes\, que se realizarán de manera semanal o como iniciativa puntual: actividades artístico-creativas\, actividades deportivas\, salidas\, excursiones\, visitas culturales\, talleres interculturales… \n  \n– El equipo educativo se reunirá todas las semanas para realizar el seguimiento del proyecto\, así como establecer las pautas para la consecución de los objetivos marcados. Se realizará revisión individual de cada participante y seguimiento educativo en su centro escolar de referencia\, para realizar así un trabajo en red coordinado entre centro educativo\, familia y joven. \n  \nPara más información dirigirse a:  \nCENTRO JUVENIL DON BOSCO – C/SAN JUAN BOSCO\, 11 (LEÓN) \nJAVIER BARROS SALINAS
URL:https://www.federboscocyl.org/evento/atencion-socio-educativa-para-ninosas-y-jovenes-en-riesgo-yo-exclusion-2021-2022/
LOCATION:Centro Juvenil Don Bosco León
CATEGORIES:Actividades,Próximas Actividades
ATTACH;FMTTYPE=image/png:https://www.federboscocyl.org/wp-content/uploads/2021/10/atencion-socioeducativa-002.png
ORGANIZER;CN="Consejo%20de%20la%20Juventud%20de%20Castilla%20y%20Le%C3%B3n":MAILTO:cjcyl@cjcyl.es
END:VEVENT
BEGIN:VEVENT
DTSTART;TZID=Europe/Paris:20211015T080000
DTEND;TZID=Europe/Paris:20211015T170000
DTSTAMP:20260424T070205
CREATED:20211015T071227Z
LAST-MODIFIED:20220202T095718Z
UID:3013-1634284800-1634317200@www.federboscocyl.org
SUMMARY:CAMPAÑA “FOMENTO DEL BUEN USO DE LAS TIC”
DESCRIPTION:Objetivos del Proyecto \n.- Prevenir las adicciones sin sustancias en niños/as y jóvenes participantes mediante la mejora de estrategias y acciones preventivas en el ámbito del ocio y tiempo libre educativo. \n.- Facilitar a los educadores/as información y actividades para educar a jóvenes en el buen uso de las TIC. \n.- Formar a los adolescentes y jóvenes sobre cómo hacer un uso responsable de las TIC. \n.- Proporcionar herramientas y fórmulas para utilizar las TIC de una manera adecuada y ajustada a la edad. \n.- Dar a conocer los riesgos de las adicciones a las TIC. \n.- Fomentar la competencia digital. \n  \n  \nLugar: Villamuriel de Cerrato (Palencia) \n  \nDuración del Proyecto:  \nOctubre 2021: Preparación de la guía y formación de mediadores \nNoviembre-Diciembre: Desarrollo de Talleres formativos \n  \nDestinatarios: unos 165 de nuestra localidad. \nLas edades estarán comprendidas entre los 12 y 17 años\, especialmente\, aunque también realizaremos algunas actividades para un perfil de edad más mayores. \n  \nActividades/Horario:  \n  \nDesarrollo de una guía para mediadores  \nLa guía desarrollaría algunos de estos puntos: \n¿QUÉ SON LAS TIC? \nSALUD Y USO DE LAS TIC \nCONSEJOS PRÁCTICOS PARA LA EDUCACIÓN EN TIC \n  \nTalleres formativos con adolescentes. \nDesarrollaremos unos talleres formativos para adolescentes para prevenir las adicciones sin sustancias mediante la mejora de estrategias y acciones preventivas en el ámbito del ocio y tiempo libre educativo. \nLo haremos con grupos de edades que se confeccionarán abiertos a nuestro entorno más concreto. Nuestros cálculos en estos momentos que ya hemos iniciado la iniciativa son los siguientes: \n1º ESO: 2 grupos \n2º ESO: 3 grupos \n3º ESO: 2 grupos \n4º ESO: 2 grupos \nBachillerato y FP: 4 grupos \nEn total: 14 grupos de unos 12 integrantes cada uno máximo con un mediador juvenil \nHoras a desarrollar por taller 4/6 horas \nTrabajaremos con talleres y actividades de lo siguiente: \n  \n  \n*Actividades sobre los riesgos asociados a las Tics \n*Actividades sobre la ciberadicción a las Tics \n  \n  \nPara más información dirigirse a: \nSanti Domínguez (Director) – 600 582193 \nIván Martín (Coordinador) – 619 342465 \nCentro Juvenil Don Bosco (Villamuriel) – (correo electrónico: info@cjboscovilla.org)
URL:https://www.federboscocyl.org/evento/campana-fomento-del-buen-uso-de-las-tic/
CATEGORIES:Próximas Actividades
ATTACH;FMTTYPE=image/png:https://www.federboscocyl.org/wp-content/uploads/2021/10/Cartel-Fomento-Buen-Uso-de-las-Tic-Generico-2021.png
END:VEVENT
BEGIN:VEVENT
DTSTART;TZID=Europe/Paris:20211015T080000
DTEND;TZID=Europe/Paris:20211015T170000
DTSTAMP:20260424T070205
CREATED:20211015T071741Z
LAST-MODIFIED:20220202T095715Z
UID:3017-1634284800-1634317200@www.federboscocyl.org
SUMMARY:PROYECTO “MUJERES EN TICS-ASTUDILLO”
DESCRIPTION:Objetivos del Proyecto \n\nAdquirir independencia en el uso de las redes sociales\, medios de comunicación\, internet\, descarga y uso de aplicaciones\nAprender manejo de móviles\nDesarrollar una actitud crítica y reflexiva ante las TIC.\n\n  \n  \n  \n  \n  \nLugar: Astudillo (Palencia) \n  \nDuración del Proyecto: Octubre 2021- Diciembre 2021 \n  \nDestinatarios: unos 40 de nuestra localidad. \n  \nActividades/Horario:  Realizar talleres de diversos contenidos que a continuación detallamos: \n\nIntroducción a Windows.\nInternet\nCorreo electrónico\nMóviles y tabletas\nRedes Sociales\nSkype / Meet\nProcesador de textos\nPresentación y edición de diapositivas.\n\n  \n  \n  \nCrearemos un módulo de “Formación de Formadoras”  \nCon este módulo formativo queremos conseguir que existan técnicas para capacitar a personas que posteriormente vayan a desarrollar su trabajo como facilitadoras con mujeres rurales. \nContenido que trataremos: \n+Enfoque de género \n+ El rol de la persona facilitadora en las metodologías participativas dentro del trabajo con grupos de Alfabetización Digital \n+ Obstáculos y dificultades para el manejo básico de las TIC en el caso de las mujeres de entornos rurales de los grupos de Alfabetización Digital \n  \n  \nPara más información dirigirse a: \nSanti Domínguez (Director) – 600 582193 \nIván Martín (Coordinador)  – 619 342465 \nCentro Juvenil Don Bosco (Villamuriel) – (correo electrónico: info@cjboscovilla.org)
URL:https://www.federboscocyl.org/evento/proyecto-mujeres-en-tics-astudillo/
CATEGORIES:Próximas Actividades
ATTACH;FMTTYPE=image/jpeg:https://www.federboscocyl.org/wp-content/uploads/2021/10/Cartel-Mujeres-en-Tics-en-Astudillo-Generico-2021-scaled.jpg
END:VEVENT
END:VCALENDAR