BEGIN:VCALENDAR
VERSION:2.0
PRODID:-//Federación CC.JJ. Don Bosco Castilla y León - ECPv5.3.1.1//NONSGML v1.0//EN
CALSCALE:GREGORIAN
METHOD:PUBLISH
X-WR-CALNAME:Federación CC.JJ. Don Bosco Castilla y León
X-ORIGINAL-URL:https://www.federboscocyl.org
X-WR-CALDESC:Eventos para Federación CC.JJ. Don Bosco Castilla y León
BEGIN:VTIMEZONE
TZID:Europe/Paris
BEGIN:DAYLIGHT
TZOFFSETFROM:+0100
TZOFFSETTO:+0200
TZNAME:CEST
DTSTART:20210328T010000
END:DAYLIGHT
BEGIN:STANDARD
TZOFFSETFROM:+0200
TZOFFSETTO:+0100
TZNAME:CET
DTSTART:20211031T010000
END:STANDARD
BEGIN:DAYLIGHT
TZOFFSETFROM:+0100
TZOFFSETTO:+0200
TZNAME:CEST
DTSTART:20220327T010000
END:DAYLIGHT
BEGIN:STANDARD
TZOFFSETFROM:+0200
TZOFFSETTO:+0100
TZNAME:CET
DTSTART:20221030T010000
END:STANDARD
END:VTIMEZONE
BEGIN:VEVENT
DTSTART;TZID=Europe/Paris:20211008T080000
DTEND;TZID=Europe/Paris:20220630T233000
DTSTAMP:20260422T150041
CREATED:20211008T111123Z
LAST-MODIFIED:20220401T120053Z
UID:3009-1633680000-1656631800@www.federboscocyl.org
SUMMARY:ATENCIÓN SOCIO-EDUCATIVA PARA NIÑOSAS Y JÓVENES EN RIESGO YO EXCLUSIÓN 2021-2022
DESCRIPTION:Objetivos del Proyecto \n– Apoyar a las personas destinatarias a adquirir hábitos adecuados de estudio\, proporcionándoles también los medios ambientales y personales necesarios para su trabajo extraescolar. \n– Detectar e intervenir en las situaciones familiares\, personales y sociales que supongan una desventaja socioeducativa de los/las jóvenes y adolescentes\, fomentando su empoderamiento. \n– Ofrecer espacios integradores especialmente para los colectivos de niños/as y jóvenes de colectivos en riesgo de exclusión. \n– Mantener relación y coordinación con el entorno de los menores (centros educativos\, servicios sociales y sus familias) para tener un conocimiento real de la situación escolar y social de las personas destinatarias y hacer un seguimiento de la evolución de los mismos; potenciando a la familia como centro de acción social. \n  \n  \nLugar:  \n  \nCENTRO JUVENIL DON BOSCO – C/SAN JUAN BOSCO\, 11 (LEÓN) \n  \nDuración del Proyecto:  \nSEPTIEMBRE 2021 – JUNIO 2022 \n  \nDestinatarios:  \nNiños/as\, adolescentes y jóvenes en riesgo de exclusión social \n  \nActividades/Horario:  \n  \n– Talleres de apoyo escolar y refuerzo educativo de lunes a jueves\, de dos horas de duración. Donde se trabajará con los jóvenes tareas de apoyo escolar\, realización de deberes\, preparación de exámenes\, aprendizaje de técnicas de estudio\, refuerzo educativo según su retraso curricular… así como dinámicas de habilidades sociales\, fomento de valores sociales y competencias básicas\, y actividades de reflexión y debate. \n  \n– Seguimiento personalizado de los casos que lo requieran: a lo largo del año se destinarán 5 horas semanales a la atención de información\, orientación y asesoramiento de todos aquellos niños\, jóvenes y unidades familiares que lo requieran. Pudiendo ser solicitadas por los educadores\, por lo menores o por las familias. Este espacio pretende ser una herramienta de seguimiento y acercamiento a la realidad de los menores\, donde poder atender sus demandas\, dificultas\, inquietudes y potenciar sus fortalezas y competencias personales. \n  \n– A través de un encuentro informal con los jóvenes y las familias se intentaría conocer sus necesidades e inquietudes. Tendrían un seguimiento personalizado en cuanto al avance y consecución de los objetivos individuales de cada uno. Se trataría también de crear un grupo de padres y madres donde trabajar ciertos aspectos de la vida familiar de una forma experiencial y a través  de dinámicas; aprovechar ese grupo y buen ambiente para crear una Escuela de Familias donde poder dar formación necesaria. \n  \n– A lo largo del curso se realizarán diversas actividades encaminadas a la promoción de actividades de tiempo libre y otras actividades complementarias para estos jóvenes\, que se realizarán de manera semanal o como iniciativa puntual: actividades artístico-creativas\, actividades deportivas\, salidas\, excursiones\, visitas culturales\, talleres interculturales… \n  \n– El equipo educativo se reunirá todas las semanas para realizar el seguimiento del proyecto\, así como establecer las pautas para la consecución de los objetivos marcados. Se realizará revisión individual de cada participante y seguimiento educativo en su centro escolar de referencia\, para realizar así un trabajo en red coordinado entre centro educativo\, familia y joven. \n  \nPara más información dirigirse a:  \nCENTRO JUVENIL DON BOSCO – C/SAN JUAN BOSCO\, 11 (LEÓN) \nJAVIER BARROS SALINAS
URL:https://www.federboscocyl.org/evento/atencion-socio-educativa-para-ninosas-y-jovenes-en-riesgo-yo-exclusion-2021-2022/
LOCATION:Centro Juvenil Don Bosco León
CATEGORIES:Actividades,Próximas Actividades
ATTACH;FMTTYPE=image/png:https://www.federboscocyl.org/wp-content/uploads/2021/10/atencion-socioeducativa-002.png
ORGANIZER;CN="Consejo%20de%20la%20Juventud%20de%20Castilla%20y%20Le%C3%B3n":MAILTO:cjcyl@cjcyl.es
END:VEVENT
BEGIN:VEVENT
DTSTART;TZID=Europe/Paris:20211101T080000
DTEND;TZID=Europe/Paris:20211130T170000
DTSTAMP:20260422T150041
CREATED:20211024T105335Z
LAST-MODIFIED:20220202T095712Z
UID:2967-1635753600-1638291600@www.federboscocyl.org
SUMMARY:Cuerpo y mente. Encuentros en la naturaleza
DESCRIPTION:  \n  \n \nObjetivos del Proyecto \n  \n\nFavorecer momentos de intercambio y relación fuera del centro juvenil entre las personas voluntarias y destinatarias de la asociación.\nSensibilizar sobre la importancia de la protección del medio ambiente y el patrimonio rural\nCrear sinergias para promover la realización de actividades relacionadas con el medio ambiente\nConocer la riqueza natural y rural de nuestra provincia\n\n  \n  \n  \n  \nLugar:  \n\nDomingo\, 7 de noviembre FAEDO DE CIÑEDA\nDomingo\, 14 de noviembre RUTA SAN FACUNDO AL POCO DE LAS HOYAS\nDomingo\, 28 de noviembre SENDA LITERARIA EN GERAS DE GORDÓN (LEON)\n\n  \nDuración del Proyecto: Salidas de 8 horas que se realizaran en 3 domingos de noviembre \n  \nDestinatarios: Niños\, niñas\, adolescentes y jóvenes \n  \nActividades/Horario: de 09:00 a 17:00 horas \n\nRutas de senderismo\nActividades de intercambio cultural\nActividades de voluntariado ambiental\nTaller de igualdad\n\n  \nPara mas información dirigirse a:  \nSandra Mateos Sabel (616306451) \ninfo@asociacionauryn.org \n 
URL:https://www.federboscocyl.org/evento/1cuerpo-y-mente-encuentros-en-la-naturaleza/
CATEGORIES:Próximas Actividades
ATTACH;FMTTYPE=image/png:https://www.federboscocyl.org/wp-content/uploads/2021/06/ENCUENTRO-EN-LA-NATURALEZA-1.png
END:VEVENT
BEGIN:VEVENT
DTSTART;TZID=Europe/Paris:20211101T080000
DTEND;TZID=Europe/Paris:20211130T170000
DTSTAMP:20260422T150041
CREATED:20211026T145045Z
LAST-MODIFIED:20220202T095710Z
UID:3036-1635753600-1638291600@www.federboscocyl.org
SUMMARY:Cuerpo y mente. Encuentros en la naturaleza
DESCRIPTION:  \n  \n \nObjetivos del Proyecto \n  \n\nFavorecer momentos de intercambio y relación fuera del centro juvenil entre las personas voluntarias y destinatarias de la asociación.\nSensibilizar sobre la importancia de la protección del medio ambiente y el patrimonio rural\nCrear sinergias para promover la realización de actividades relacionadas con el medio ambiente\nConocer la riqueza natural y rural de nuestra provincia\n\n  \n  \n  \n  \nLugar:  \n\nDomingo\, 7 de noviembre FAEDO DE CIÑEDA\nDomingo\, 14 de noviembre RUTA SAN FACUNDO AL POCO DE LAS HOYAS\nDomingo\, 28 de noviembre SENDA LITERARIA EN GERAS DE GORDÓN (LEON)\n\n  \nDuración del Proyecto: Salidas de 8 horas que se realizaran en 3 domingos de noviembre \n  \nDestinatarios: Niños\, niñas\, adolescentes y jóvenes \n  \nActividades/Horario: de 09:00 a 17:00 horas \n\nRutas de senderismo\nActividades de intercambio cultural\nActividades de voluntariado ambiental\nTaller de igualdad\n\n  \nPara mas información dirigirse a:  \nSandra Mateos Sabel (616306451) \ninfo@asociacionauryn.org \n 
URL:https://www.federboscocyl.org/evento/cuerpo-y-mente-encuentros-en-la-naturaleza/
CATEGORIES:Próximas Actividades
ATTACH;FMTTYPE=image/png:https://www.federboscocyl.org/wp-content/uploads/2021/06/ENCUENTRO-EN-LA-NATURALEZA-1.png
END:VEVENT
BEGIN:VEVENT
DTSTART;VALUE=DATE:20211113
DTEND;VALUE=DATE:20211114
DTSTAMP:20260422T150041
CREATED:20211028T101105Z
LAST-MODIFIED:20220202T095708Z
UID:3038-1636761600-1636847999@www.federboscocyl.org
SUMMARY:CONVIVENCIA EN LA NATURALEZA
DESCRIPTION:Objetivos del Proyecto \nConvivencia de niños\, niñas\, jóvenes y sus familias para conocer los montes de la Provincia de León. Se realizará una salida por zonas naturales de la provincia de León\, más en concreto por la zona de La Vecilla (León)\, para dar valor así también al patrimonio cultural de nuestra Comunidad Autónoma. \n\nSensibilizar a los jóvenes y sus familias de la importancia del medio ambiente.\nFomentar el cuidado de la naturaleza y el ecosistema que nos rodea.\nPromover la sostenibilidad del medio ambiente.\nSensibilizar en la prevención de conductas perjudiciales para el medio natural.\n\n  \n  \n  \n  \nLugar: La Vecilla (León) \n  \nDuración del Proyecto: sábado 13 de noviembre \n  \nDestinatarios: Menores de 5 a 18 años y sus familias. \n  \nActividades/Horario: de 10.00. a 19.30h. \nEsta convivencia constará de una pequeña ruta de senderismo por una zona natural de la provincia de León\, y posteriormente se tendrá una jornada de convivencia en un albergue donde se realizarán dinámicas y actividades relacionadas con la naturaleza\, el compañerismo\, la diversidad\, la interculturalidad\, etc. Se realizará con motivo del final del curso escolar\, para así generar un espacio de distensión entre las familias y los menores\, saliendo de la estructura formal para cambiar de entorno\, en un clima favorable de convivencia. \n  \nPara más información dirigirse a: \nC/San Juan Bosco\, 11 \ninfo@cjboscoleon.org \n987213192 / 693 793 528 \n 
URL:https://www.federboscocyl.org/evento/convivencia-en-la-naturaleza-2/
CATEGORIES:Próximas Actividades
ATTACH;FMTTYPE=image/png:https://www.federboscocyl.org/wp-content/uploads/2021/10/Convivencia-Naturaleza-noviembre.png
END:VEVENT
END:VCALENDAR