BEGIN:VCALENDAR
VERSION:2.0
PRODID:-//Federación CC.JJ. Don Bosco Castilla y León - ECPv5.3.1.1//NONSGML v1.0//EN
CALSCALE:GREGORIAN
METHOD:PUBLISH
X-WR-CALNAME:Federación CC.JJ. Don Bosco Castilla y León
X-ORIGINAL-URL:https://www.federboscocyl.org
X-WR-CALDESC:Eventos para Federación CC.JJ. Don Bosco Castilla y León
BEGIN:VTIMEZONE
TZID:Europe/Paris
BEGIN:DAYLIGHT
TZOFFSETFROM:+0100
TZOFFSETTO:+0200
TZNAME:CEST
DTSTART:20220327T010000
END:DAYLIGHT
BEGIN:STANDARD
TZOFFSETFROM:+0200
TZOFFSETTO:+0100
TZNAME:CET
DTSTART:20221030T010000
END:STANDARD
END:VTIMEZONE
BEGIN:VEVENT
DTSTART;TZID=Europe/Paris:20221101T080000
DTEND;TZID=Europe/Paris:20221130T170000
DTSTAMP:20260424T174303
CREATED:20221031T084032Z
LAST-MODIFIED:20230130T084206Z
UID:3291-1667289600-1669827600@www.federboscocyl.org
SUMMARY:Conócete a ti mismo: hacia la prevención de la violencia de género
DESCRIPTION:Creemos que es importante trabajar con los adolescentes y jóvenes la autoestima\, ya que es un punto clave para su bienestar psicológico\, y debemos trabajar con ellos para que se desarrollen bien en este ámbito. Porque la autoestima determinará su calidad de vida en la edad adulta. \nPor eso durante este mes se trabajará la autoestima\, el autoconcepto y la autonomía\, en nuestro proyecto de igualdad realizado en colaboración con la Junta de Castilla y León: Conócete a ti mismo: hacia la prevención de la violencia de género.
URL:https://www.federboscocyl.org/evento/conocete-a-ti-mismo-hacia-la-prevencion-de-la-violencia-de-genero-3/
ATTACH;FMTTYPE=image/jpeg:https://www.federboscocyl.org/wp-content/uploads/2023/01/2-scaled.jpg
END:VEVENT
END:VCALENDAR