BEGIN:VCALENDAR
VERSION:2.0
PRODID:-//Federación CC.JJ. Don Bosco Castilla y León - ECPv5.3.1.1//NONSGML v1.0//EN
CALSCALE:GREGORIAN
METHOD:PUBLISH
X-WR-CALNAME:Federación CC.JJ. Don Bosco Castilla y León
X-ORIGINAL-URL:https://www.federboscocyl.org
X-WR-CALDESC:Eventos para Federación CC.JJ. Don Bosco Castilla y León
BEGIN:VTIMEZONE
TZID:Europe/Paris
BEGIN:DAYLIGHT
TZOFFSETFROM:+0100
TZOFFSETTO:+0200
TZNAME:CEST
DTSTART:20210328T010000
END:DAYLIGHT
BEGIN:STANDARD
TZOFFSETFROM:+0200
TZOFFSETTO:+0100
TZNAME:CET
DTSTART:20211031T010000
END:STANDARD
END:VTIMEZONE
BEGIN:VEVENT
DTSTART;TZID=Europe/Paris:20210715T080000
DTEND;TZID=Europe/Paris:20210715T170000
DTSTAMP:20260421T103853
CREATED:20210715T125229Z
LAST-MODIFIED:20220202T095722Z
UID:2981-1626336000-1626368400@www.federboscocyl.org
SUMMARY:“FORMACIÓN DE LÍDERES” (2º quincena septiembre)
DESCRIPTION:Objetivos del Proyecto \n  \n\nPromover el asociacionismo\, la participación social y el voluntariado en la población joven.\nPromocionar espacios interculturales donde educar y sensibilizar a través de la educación no formal.\nFormar personas con funciones de coordinación o cargos de responsabilidad\, encargados de dinamizar y organizar la asociación.\nAyudar en el reciclaje y el mejor funcionamiento de las asociaciones.\nVisibilizar el trabajo que día a día llevan a cabo las Asociaciones Juveniles y el Consejo de la Juventud de Castilla y León.\nFomentar la participación e integración en la sociedad de Castilla y León de jóvenes en situación de riesgo de exclusión social\n\n  \nLugar:  \nValladolid\, Palencia y León \n  \nDuración del Proyecto:  \nSegunda quincena de septiembre 2021\, a determinar por cada Centro Juvenil. \n  \nDestinatarios:  \nJóvenes con edades comprendidas entre los 14 y los 30 años\, miembros de diferentes actividades juveniles de la Comunidad Autónoma de Castilla y León y otros jóvenes que también estén interesados. \n  \nActividades/Horario:  \nLos 4 centros juveniles ofrecerán jornadas formativas donde poner en conocimiento o reforzar las nociones mínimas para poder desarrollar actividades de voluntariado con autonomía y confianza; conociendo los protocolos mínimos de coordinación\, prevención y seguridad que rigen en cualquier tipo de actividad. \n  \nDestinadas especialmente a los jóvenes interesados en la pedagogía del ocio como recurso educativo para su intervención. \n  \nPara más información dirigirse a: \n  \n\n\n\n·          info@cjboscoleon.org\n\n\n·         info@asociacionauryn.org\n\n\n·         info@alestecasaj.org\n\n\n·         info@cjboscovilla.org\n\n\n\n 
URL:https://www.federboscocyl.org/evento/formacion-de-lideres-2o-quincena-septiembre/
CATEGORIES:Actividades,Próximas Actividades
ATTACH;FMTTYPE=image/jpeg:https://www.federboscocyl.org/wp-content/uploads/2021/07/Formacion_Lideres-septiembre-01-scaled.jpg
END:VEVENT
END:VCALENDAR